BEGIN:VCALENDAR
PRODID:-//kirchenweb.ch gmbh//veranstaltungsausgabe v2.0//DE
VERSION:2.0
METHOD:PUBLISH
BEGIN:VEVENT
DTSTART:20260702T113000Z
DTEND:20260702T143000Z
LOCATION:Kirchgemeindehaus Kreuz\, Zentralstrasse 40\, 8610 Uster
TRANSP:OPAQUE
SEQUENCE:0
UID:31427-veranstaltung@refuster.ch
DTSTAMP:20250911T095045Z
DESCRIPTION:Der Spielnachmittag bietet Raum zum Spielen und die
  Geselligkeit zu geniessen.\nHier haben Sie die Möglichkeit zum Jassen\,
  Rummi oder ein andereres Spiel zu spielen.\nIn der Pause wird Kaffee
  getrunken und Kuchen gegessen. Für die Unkosten wird ein freiwilliger
  Beitrag erhoben. Dori Räz ist die treue Seele des Nachmittages und wird
  sich auch um Sie kümmern.\n\nKontakt: Béatrice Spörri\,\nLeitung: Dori
  Räz\n\nWeitere Infos: https://www.refuster.ch/veranstaltung/31427
SUMMARY:Spielnachmittag
PRIORITY:5
X-MICROSOFT-CDO-IMPORTANCE:1
CLASS:PUBLIC
END:VEVENT
END:VCALENDAR
