BEGIN:VCALENDAR
PRODID:-//kirchenweb.ch gmbh//veranstaltungsausgabe v2.0//DE
VERSION:2.0
METHOD:PUBLISH
BEGIN:VEVENT
DTSTART:20260831T070000Z
DTEND:20260831T093000Z
LOCATION:Kirchgemeindehaus Kreuz\, Zentralstrasse 40\, 8610 Uster
TRANSP:OPAQUE
SEQUENCE:0
UID:31408-veranstaltung@refuster.ch
DTSTAMP:20250911T092637Z
DESCRIPTION:Gemeinsam Kaffee trinken. Austauschen und plaudern in
  gemütlicher Atmosphäre.\nEin Treffpunkt der einlädt zum Verweilen\,
  Plaudern und Lachen. Bei schönem warmen Wetter sind Caféhaustischli
  draussen vor dem Kirchgemeindehaus\, oder drinnen im Raum Erde.\nUm 10.00
  Uhr kommen die Mitarbeiter zum Pausenkaffee.\n\nKontakt: Béatrice
  Spörri\n\nWeitere Infos: https://www.refuster.ch/veranstaltung/31408
SUMMARY:Treffpunkt Erde
PRIORITY:5
X-MICROSOFT-CDO-IMPORTANCE:1
CLASS:PUBLIC
END:VEVENT
END:VCALENDAR
