BEGIN:VCALENDAR
PRODID:-//kirchenweb.ch gmbh//veranstaltungsausgabe v2.0//DE
VERSION:2.0
METHOD:PUBLISH
BEGIN:VEVENT
DTSTART:20260512T123000Z
DTEND:20260512T143000Z
LOCATION:Kirchgemeindehaus Kreuz\, Zentralstrasse 40\, 8610 Uster
TRANSP:OPAQUE
SEQUENCE:0
UID:31378-veranstaltung@refuster.ch
DTSTAMP:20260413T130104Z
DESCRIPTION:Das monatliche Tanzcafé findet im kleinen Saal des
  Kirchgemeindehauses Kreuz statt. DJ «Walter» legt Musik von
  Schallplatte und CD auf. Es sind musikalische Erinnerungen an Melodien
  aus Filmen\, Schlagern\, Volksmusik\, Chansons sowie Rock und Pop. 
 \nVerbringen Sie einen fröhlichen und entspannten Nachmittag unter
  Gleichgesinnten! In den Tanzpausen können Sie an einem Glas Bowle
  nippen\, etwas knabbern und geniessen. Bis das nächste mitreissende
  Musikstück Sie zurück aufs edle Holzparkett zieht.\nEingeladen sind
  alle: Anfänger/-innen und Hobbytänzer/-innen\, junge und ältere
  Erwachsene\, Menschen mit Demenz und ihre Angehörigen\, Singles oder
  Paare.\nDer Eintritt ist frei\, es wird jedoch um einen Unkostenbeitrag
  für Konsumationen gebeten.\nWir freuen uns auf «lüpfige» Nachmittage
  mit Ihnen.\n\n\nKontakt: Béatrice Spörri\n\nWeitere Infos:
  https://www.refuster.ch/veranstaltung/31378
SUMMARY:Tanzcafé & Plausch
PRIORITY:5
X-MICROSOFT-CDO-IMPORTANCE:1
CLASS:PUBLIC
END:VEVENT
END:VCALENDAR
