BEGIN:VCALENDAR
PRODID:-//kirchenweb.ch gmbh//veranstaltungsausgabe v2.0//DE
VERSION:2.0
METHOD:PUBLISH
BEGIN:VEVENT
DTSTART:20260509T080000Z
DTEND:20260509T090000Z
LOCATION:Reformierte Kirche Uster\, Zentralstrasse 41\, 8610 Uster
TRANSP:OPAQUE
SEQUENCE:0
UID:31305-veranstaltung@refuster.ch
DTSTAMP:20260415T093255Z
DESCRIPTION:Alles neu macht der Mai\n\nDas Chilemüüsli liebt es\,
  zwischen den knarrenden Holzbänken in der Kirche zu sitzen und zu
  beobachten\, wenn die Sonne morgens durch die Fenster fällt und kleine
  helle Flecken auf den Boden malt. Es kennt jeden Spalt und jedes
  Geheimnis dieser Kirche. Da es sehr geschwätzig ist\, würde es
  unglaublich gern alles mit den Kindern teilen. Auch das\, was es hier von
  Gott erfahren und erlebt hat. \nDas Chilemüüsli und das Fiire-Team
  freuen sich über Kinder und ihre Familien\, die die Kirche lebendig
  machen. Wenn kleine Füsse über den flauschigen Teppich tapsen und laut
  lachen\, dann zieht immer Leben in die Kirche ein. Wenn sie singen\, wird
  es innen drin ganz warm im Mäuseherz. Und beim anschliessenden Znüni
  fällt manchmal auch ein Krümel für das Müüsli ab. Kleine und grosse
  Menschen sind es\, die den Frühling mit Licht und Zuversicht in die
  Kirche bringen. Bist du dabei?\nDie ganze Gemeinde ist willkommen.\n
 \nKontakt: Pfrn. Manuela Schäfer\n\nWeitere Infos:
  https://www.refuster.ch/veranstaltung/31305
SUMMARY:Fiire mit de Chliine
PRIORITY:5
X-MICROSOFT-CDO-IMPORTANCE:1
CLASS:PUBLIC
END:VEVENT
END:VCALENDAR
