BEGIN:VCALENDAR
PRODID:-//kirchenweb.ch gmbh//veranstaltungsausgabe v2.0//DE
VERSION:2.0
METHOD:PUBLISH
BEGIN:VEVENT
DTSTART:20260514T080000Z
DTEND:20260514T090000Z
LOCATION:Niederuster / Besenbeiz Schärer\, \,
TRANSP:OPAQUE
SEQUENCE:0
UID:31301-veranstaltung@refuster.ch
DTSTAMP:20260415T133003Z
DESCRIPTION:Der Quartiergottesdienst Niederuster in der Besebeiz Schärer
  am See ist ein beliebter Treffpunkt an Auffahrt. Auch dieses Jahr sind
  wieder Taufen angemeldet. Der ausgezeichnete Musiker Brendan Wade wird
  den Gottesdienst mit Irish folk music zu einem besonderen Erlebnis
  machen.\n\nWir freuen uns auf einen zahlreichen Besuch. Herzlich
  willkommen!\nMatthias Rüsch und das Quartiergottesdienst-Team\n\nim
  Anschluss: Kaffee und Kuchen. Der Quartierverein Niederuster bietet
  Würste vom Grill und kalte Getränke an.\n\nKontakt: Matthias Rüsch\n
 \nWeitere Infos: https://www.refuster.ch/veranstaltung/31301
SUMMARY:Auffahrtsgottesdienst mit Taufe
PRIORITY:5
X-MICROSOFT-CDO-IMPORTANCE:1
CLASS:PUBLIC
END:VEVENT
END:VCALENDAR
