BEGIN:VCALENDAR
PRODID:-//kirchenweb.ch gmbh//veranstaltungsausgabe v2.0//DE
VERSION:2.0
METHOD:PUBLISH
BEGIN:VEVENT
DTSTART:20260512T043000Z
DTEND:20260512T060000Z
LOCATION:Kirchgemeindehaus Kreuz\, \,
TRANSP:OPAQUE
SEQUENCE:0
UID:31136-veranstaltung@refuster.ch
DTSTAMP:20250806T154925Z
DESCRIPTION:Dieses Morgengebet steht allen offen\, die miteinander für
  Uster beten möchten.\nAuch persönliche Gebetsanliegen werden von der
  Gruppe aufgenommen und unterstützt. \n\nWir treffen uns jeweils am
  zweiten Dienstagmorgen im Monat im Kirchgemeindehaus.\n\n06.30-07.30  -
  gemeinsames Gebet\n07.30-08.00 - gemeinsames Frühstück\n\nEs ist keine
  Anmeldung nötig.\n\n\nKontakt: Jörg Heiniger\n\nWeitere Infos:
  https://www.refuster.ch/veranstaltung/31136
SUMMARY:Stadtgebet
PRIORITY:5
X-MICROSOFT-CDO-IMPORTANCE:1
CLASS:PUBLIC
END:VEVENT
END:VCALENDAR
