BEGIN:VCALENDAR
PRODID:-//kirchenweb.ch gmbh//veranstaltungsausgabe v2.0//DE
VERSION:2.0
METHOD:PUBLISH
BEGIN:VEVENT
DTSTART:20261202T084500Z
DTEND:20261202T100000Z
LOCATION:Kirchgemeindehaus Kreuz\, Zentralstrasse 40\, 8610 Uster
TRANSP:OPAQUE
SEQUENCE:0
UID:31118-veranstaltung@refuster.ch
DTSTAMP:20251029T130533Z
DESCRIPTION:Kontakt: matthias.ruesch@refuster.ch\n\nWeitere Infos:
  https://www.refuster.ch/veranstaltung/31118
SUMMARY:gemeinsam Bibel lesen
PRIORITY:5
X-MICROSOFT-CDO-IMPORTANCE:1
CLASS:PUBLIC
END:VEVENT
END:VCALENDAR
