BEGIN:VCALENDAR
PRODID:-//kirchenweb.ch gmbh//veranstaltungsausgabe v2.0//DE
VERSION:2.0
METHOD:PUBLISH
BEGIN:VEVENT
DTSTART:20260412T160000Z
DTEND:20260412T180000Z
LOCATION:Reformierte Kirche Uster\, Zentralstrasse 41\, 8610 Uster
TRANSP:OPAQUE
SEQUENCE:0
UID:30749-veranstaltung@refuster.ch
DTSTAMP:20260415T125408Z
DESCRIPTION:Kontakt: Eliane Würmli\nSascha Dollenmeier\n\nWeitere Infos:
  https://www.refuster.ch/veranstaltung/30749
SUMMARY:Ökumenischer Jugendgottesdienst
PRIORITY:5
X-MICROSOFT-CDO-IMPORTANCE:1
CLASS:PUBLIC
END:VEVENT
END:VCALENDAR
