BEGIN:VCALENDAR
PRODID:-//kirchenweb.ch gmbh//veranstaltungsausgabe v2.0//DE
VERSION:2.0
METHOD:PUBLISH
BEGIN:VEVENT
DTSTART:20260620T073000Z
DTEND:20260620T093000Z
LOCATION:Kirchgemeindehaus Kreuz\, Zentralstrasse 40\, 8610 Uster
TRANSP:OPAQUE
SEQUENCE:0
UID:30719-veranstaltung@refuster.ch
DTSTAMP:20251212T113506Z
DESCRIPTION:Grün – rot – blau – gelb \n\nKinder lieben es zu malen.
  Durch das spielerische Malen werden die Motorik und Konzentration des
  Kindes gestärkt und positiv \ngefördert. Auch das Verständnis für die
  räumliche Wahrnehmung und für Proportionen werden durch kreatives Malen
  geschärft. Am meisten freuen sich die Kinder\, wenn sie ihre liebevoll 
 \ngestalteten Kunstwerke ihren Eltern zeigen können. \n\nAuf grossen
  Blättern dürfen die Kinder ihrer Fantasie freien Lauf lassen. \n
 \nGemeinsam lauschen wir einer Geschichte\, singen einfache Lieder und
  geniessen einen kleinen Znüni.\n\n\nKontakt: Maike Maurer\n\nWeitere
  Infos: https://www.refuster.ch/veranstaltung/30719
SUMMARY:Mit Pinsel und Farben - Malen für Kinder (3 bis 6 J.)
PRIORITY:5
X-MICROSOFT-CDO-IMPORTANCE:1
CLASS:PUBLIC
END:VEVENT
END:VCALENDAR
