BEGIN:VCALENDAR
PRODID:-//kirchenweb.ch gmbh//veranstaltungsausgabe v2.0//DE
VERSION:2.0
METHOD:PUBLISH
BEGIN:VEVENT
DTSTART:20260926T080000Z
DTEND:20260926T090000Z
LOCATION:Reformierte Kirche Uster\, Zentralstrasse 39\, 8610 Uster
TRANSP:OPAQUE
SEQUENCE:0
UID:30694-veranstaltung@refuster.ch
DTSTAMP:20251121T090051Z
DESCRIPTION:Kontakt: Pfrn. Manuela Schäfer\n\nWeitere Infos:
  https://www.refuster.ch/veranstaltung/30694
SUMMARY:Fiire mit de Chliine
PRIORITY:5
X-MICROSOFT-CDO-IMPORTANCE:1
CLASS:PUBLIC
END:VEVENT
END:VCALENDAR
