BEGIN:VCALENDAR
PRODID:-//kirchenweb.ch gmbh//veranstaltungsausgabe v2.0//DE
VERSION:2.0
METHOD:PUBLISH
BEGIN:VEVENT
DTSTART:20260404T080000Z
DTEND:20260404T093000Z
LOCATION:Reformierte Kirche Uster\, Zentralstrasse 41\, 8610 Uster
TRANSP:OPAQUE
SEQUENCE:0
UID:30693-veranstaltung@refuster.ch
DTSTAMP:20260330T151536Z
DESCRIPTION:Die Natur ist aufgewacht. Blumen\, Vögel und andere Tiere
  sind wieder munter geworden. Dann wird auch dem Chilemüüsli klar: Jetzt
  beginnt die Osterzeit! Weihnachten kennen doch alle\, aber was hinter
  Ostern steckt\, können alle besonders gut in der Kirche gemeinsam
  entdecken und erfahren.\n In der Geschichte von Jesus sieht man ganz viel
  vom menschlichen Leben. Da wird gefeiert\, miteinander gegessen und
  getrunken. Dann wieder ist es traurig\, dunkel und still\, wie tot. Das
  Müüsli verkriecht sich dann immer. Doch danach wird ein Licht
  angezündet\, es riecht nach Blumen und Hoffnung und wird wieder laut und
  fröhlich. Teilen wir die Freude darüber – mit Singen\, Spielen\,
  Erzählen… \nDas Team mit dem Chilemüüsli erwartet Gross und Klein
  zur Feier mit anschliessendem Eiertütschen!\n\nKontakt: Pfrn. Manuela
  Schäfer\n\nWeitere Infos: https://www.refuster.ch/veranstaltung/30693
SUMMARY:Gottesdienst für Gross und Klein an Ostern
PRIORITY:5
X-MICROSOFT-CDO-IMPORTANCE:1
CLASS:PUBLIC
END:VEVENT
END:VCALENDAR
