BEGIN:VCALENDAR
PRODID:-//kirchenweb.ch gmbh//veranstaltungsausgabe v2.0//DE
VERSION:2.0
METHOD:PUBLISH
BEGIN:VEVENT
DTSTART:20250729T080000Z
DTEND:20250729T090000Z
LOCATION:Bicerin\, Weiherallee 9\,
TRANSP:OPAQUE
SEQUENCE:0
UID:30486-veranstaltung@refuster.ch
DTSTAMP:20250728T085602Z
DESCRIPTION:In der Sommerzeit verlegen wir unser Büro nach draussen.
 \nBitte stören Sie uns! Auf einen kurzen Gruss\, einen Plausch über Gott
  und die Welt (oder umkehrt)\, ein erstes Kennenlernen\, ein Wiedersehen\,
  …. Wir freuen uns\, wenn Sie uns ansprechen.\n\nWir sind jeweils zu
  finden…\n\n \nMatthias Rüsch: Dienstag\, 29. Juli\, 10-11.00 Uhr im
  Bicerin\, Weiherallee 9 - auch wenn das Bicerin ferienhalber geschlossen
  ist\, bin ich dort zu finden! (Sitzgelegenheiten vorhanden)\n \nManuela
  Schäfer: Mittwoch\, 6. August\, 16.30-18 Uhr\, beim Pavillon Stadtpark
  (bei schlechtem Wetter im Restaurant Zentrale Stadtpark-Residenz)\n 
 \nPascale Ronde: Besuch des Labyrinths am Aabach wird für den Juli
  spontan je nach Wetter festgelegt\, Information via Webseite.\n\nKontakt:
  Matthias Rüsch\n\nWeitere Infos:
  https://www.refuster.ch/veranstaltung/30486
SUMMARY:Bitte stören!
PRIORITY:5
X-MICROSOFT-CDO-IMPORTANCE:1
CLASS:PUBLIC
END:VEVENT
END:VCALENDAR
