BEGIN:VCALENDAR
PRODID:-//kirchenweb.ch gmbh//veranstaltungsausgabe v2.0//DE
VERSION:2.0
METHOD:PUBLISH
BEGIN:VEVENT
DTSTART:20250718T080000Z
DTEND:20250718T100000Z
LOCATION:Stadthaus Vorplatz überdachte Bank\, \,
TRANSP:OPAQUE
SEQUENCE:0
UID:30485-veranstaltung@refuster.ch
DTSTAMP:20250605T152641Z
DESCRIPTION:In der Sommerzeit verlegen wir unser Büro nach draussen.
 \nBitte stören Sie uns! Auf einen kurzen Gruss\, einen Plausch über Gott
  und die Welt (oder umkehrt)\, ein erstes Kennenlernen\, ein Wiedersehen\,
  …. Wir freuen uns\, wenn Sie uns ansprechen.\n\nWir sind jeweils zu
  finden…\n\nSabine Stückelberger\, Freitag\, 18. Juli\, 10 bis 12 Uhr\,
  Stadthaus Vorplatz überdachte Bänke\n\nChristina Reuter: Freitag\, 25.
  Juli\, 16-18 Uhr\, Café Stadtbibliothek\n \nMatthias Rüsch: Dienstag\,
  29. Juli\, 10-11.00 Uhr im Bicerin\, Weiherallee 9 \n \nManuela Schäfer:
  Mittwoch\, 6. August\, 16.30-18 Uhr\, beim Pavillion Stadtpark (bei
  schlechtem Wetter im Restaurant Zentrale Stadtpark-Residenz)\n \nPascale
  Ronde: Besuch des Labyrinths am Aabach wird für den Juli spontan je nach
  Wetter festgelegt\, Information via Webiste.\n \n\n\nKontakt: Sabine
  Stückelberger\n\nWeitere Infos:
  https://www.refuster.ch/veranstaltung/30485
SUMMARY:Bitte stören!
PRIORITY:5
X-MICROSOFT-CDO-IMPORTANCE:1
CLASS:PUBLIC
END:VEVENT
END:VCALENDAR
