BEGIN:VCALENDAR
PRODID:-//kirchenweb.ch gmbh//veranstaltungsausgabe v2.0//DE
VERSION:2.0
METHOD:PUBLISH
BEGIN:VEVENT
DTSTART:20250613T160000Z
DTEND:20250613T180000Z
LOCATION:Denkmalstrasse 10\, Denkmalstrasse 10\, 8610 8610 Uster
TRANSP:OPAQUE
SEQUENCE:0
UID:30464-veranstaltung@refuster.ch
DTSTAMP:20250514T122042Z
DESCRIPTION:Offene Tür an der Denkmalstrasse\n\nBesichtigung des
  sanierten Pfarrhauses an der Denkmalstrasse 10? Die Neugierde kann
  gestillt werden.\n\nNach gut dreiviertel Jahren Arbeit ist die Sanierung
  des altehrwürdigen\, denkmalgeschützten 200 Jahre alten Pfarrhauses an
  der Denkmalstrasse 10 abgeschlossen.\n\nNeben der Strangsanierung
  (Wasser\, Abwasser\, Strom) und dem Neubau der Nasszellen und der Küchen
  wurde auch die Gasheizung durch eine moderne Wärmepumpe mit Erdsonden
  ersetzt. \n\nWie das Ganze jetzt aussieht? Lassen Sie sich überraschen
  und sehen Sie selbst. Die reformierte Kirche Uster öffnet die Türen und
  lädt alle Interessierten für eine kleine Besichtigung ein. Die
  Baukommission wird vor Ort sein\, um Fragen zu beantworten.\n\nKontakt:
  Richard Kamber\n\nWeitere Infos:
  https://www.refuster.ch/veranstaltung/30464
SUMMARY:Offene Tür an der Denkmalstrasse 10
PRIORITY:5
X-MICROSOFT-CDO-IMPORTANCE:1
CLASS:PUBLIC
END:VEVENT
END:VCALENDAR
