BEGIN:VCALENDAR
PRODID:-//kirchenweb.ch gmbh//veranstaltungsausgabe v2.0//DE
VERSION:2.0
METHOD:PUBLISH
BEGIN:VEVENT
DTSTART:20260611T160000Z
DTEND:20260611T170000Z
LOCATION:Reformierte Kirche Uster\, Zentralstrasse 41\, 8610 Uster
TRANSP:OPAQUE
SEQUENCE:0
UID:30454-veranstaltung@refuster.ch
DTSTAMP:20251024T183712Z
DESCRIPTION:Jugendgottesdienst mit anschliessendem Bumi-Treff und gratis
  Hotdogs. Hier geht es zum aktuellen Flyer:
  https://www.refuster.ch/dok/4306\n\nKontakt: Pfrn. Lilly Wyser\n\nWeitere
  Infos: https://www.refuster.ch/veranstaltung/30454
SUMMARY:Abendstern
PRIORITY:5
X-MICROSOFT-CDO-IMPORTANCE:1
CLASS:PUBLIC
END:VEVENT
END:VCALENDAR
