BEGIN:VCALENDAR
PRODID:-//kirchenweb.ch gmbh//veranstaltungsausgabe v2.0//DE
VERSION:2.0
METHOD:PUBLISH
BEGIN:VEVENT
DTSTART:20250616T183000Z
DTEND:20250616T200000Z
LOCATION:qtopia kino+bar\, Brauereistrasse 2\, 8610 Uster
TRANSP:OPAQUE
SEQUENCE:0
UID:30435-veranstaltung@refuster.ch
DTSTAMP:20250512T062307Z
DESCRIPTION:Kino-Kirche\n\nKontakt: bettina.wiesendanger@refuster.ch\n
 \nWeitere Infos: https://www.refuster.ch/veranstaltung/30435
SUMMARY:Kino-Kirche
PRIORITY:5
X-MICROSOFT-CDO-IMPORTANCE:1
CLASS:PUBLIC
END:VEVENT
END:VCALENDAR
