BEGIN:VCALENDAR
PRODID:-//kirchenweb.ch gmbh//veranstaltungsausgabe v2.0//DE
VERSION:2.0
METHOD:PUBLISH
BEGIN:VEVENT
DTSTART:20250615T170000Z
DTEND:20250615T193000Z
LOCATION:qtopia kino+bar\, Brauereistrasse 2\, 8610 Uster
TRANSP:OPAQUE
SEQUENCE:0
UID:30434-veranstaltung@refuster.ch
DTSTAMP:20250529T095137Z
DESCRIPTION:Zwei Schweizer Filme zum internationalen Tag der Flüchtlinge:
  Avant il n’y avait rien (71 Min) und Habibi Sami (28 Min) – mit
  Podium\n\nYann Yagchi ist als Palästinenser in der Schweiz aufgewachsen
  - zusammen mit seinem innigsten Kinderfreund\, der Jude war und heute als
  Siedler im Westjordanland lebt. Yagchi besucht ihn dort und versucht zu
  erkunden\, wie ihre Leben so sehr auseinanderdriften konnten. Die
  Verbindungen zur Schweiz erlauben uns hier in Uster diesen weiteren Blick
  auf den Nahost-Konflikt.\nAuch Sami Daher lebt als Palästinenser in der
  Schweiz und feiert hier Erfolge mit seinem Restaurant. Dennoch verspürt
  er Heimweh nach Palästina und die Zerrissenheit in seiner Seele. 
 \nqtopia zeigt diese beiden Filme aus Anlass des Internationalen
  Flüchtlingstags gemeinsam mit uns\, der katholischen und der
  methodistischen Kirche. \n\n\nSonntag\, 15.Juni 2025\, 19:00\, im
  Anschluss Podium mit dem Protagonisten von Habibi Sami und Pfrn. B.
  Wiesendanger\nMontag\, 16.Juni 2025\, 20:30 \n\nqtopia kino+bar\,
  Brauereistrasse 2\nVorverkauf Tickets: Buchhandlung Doppelpunkt und
  Kino-Kasse\n\n\n\n\n\n\nKontakt: bettina.wiesendanger@refuster.ch\n
 \nWeitere Infos: https://www.refuster.ch/veranstaltung/30434
SUMMARY:Kino-Kirche mit Podium!
PRIORITY:5
X-MICROSOFT-CDO-IMPORTANCE:1
CLASS:PUBLIC
END:VEVENT
END:VCALENDAR
