BEGIN:VCALENDAR
PRODID:-//kirchenweb.ch gmbh//veranstaltungsausgabe v2.0//DE
VERSION:2.0
METHOD:PUBLISH
BEGIN:VEVENT
DTSTART:20250606T073000Z
DTEND:20250606T090000Z
LOCATION:Kirchgemeindehaus Kreuz\, Zentralstrasse 40\, 8610 Uster
TRANSP:OPAQUE
SEQUENCE:0
UID:30401-veranstaltung@refuster.ch
DTSTAMP:20250508T121952Z
DESCRIPTION:Kontakt: Maya Nussbaum\n\nWeitere Infos:
  https://www.refuster.ch/veranstaltung/30401
SUMMARY:Offene Chinderinsle
PRIORITY:5
X-MICROSOFT-CDO-IMPORTANCE:1
CLASS:PUBLIC
END:VEVENT
END:VCALENDAR
