BEGIN:VCALENDAR
PRODID:-//kirchenweb.ch gmbh//veranstaltungsausgabe v2.0//DE
VERSION:2.0
METHOD:PUBLISH
BEGIN:VEVENT
DTSTART:20260705T080000Z
DTEND:20260705T090000Z
LOCATION:Reformierte Kirche Uster\, Zentralstrasse 41\, 8610 Uster
TRANSP:OPAQUE
SEQUENCE:0
UID:30367-veranstaltung@refuster.ch
DTSTAMP:20260304T095809Z
DESCRIPTION:je nach Witterung: Apéro oder Chilekafi\n
 \nhttps://www.youtube.com/channel/UC-IpHezTIP50KgeMFogqYjA\n
 \nhttps://www.refuster.ch/Gemeindegottesdienst\n\n\nKontakt: Pfrn. Sabine
  Stückelberger\n\nWeitere Infos:
  https://www.refuster.ch/veranstaltung/30367
SUMMARY:Gottesdienst
PRIORITY:5
X-MICROSOFT-CDO-IMPORTANCE:1
CLASS:PUBLIC
END:VEVENT
END:VCALENDAR
