BEGIN:VCALENDAR
PRODID:-//kirchenweb.ch gmbh//veranstaltungsausgabe v2.0//DE
VERSION:2.0
METHOD:PUBLISH
BEGIN:VEVENT
DTSTART:20260419T080000Z
DTEND:20260419T090000Z
LOCATION:Schulhausplatz\, Apothekerstr.\, 8610 Uster
TRANSP:OPAQUE
SEQUENCE:0
UID:30350-veranstaltung@refuster.ch
DTSTAMP:20260415T093121Z
DESCRIPTION:Im Rummel des Lebens sind wir mit Schwung unterwegs. Es
  schleudert uns hoch und runter. Mal lieben wir den Nervenkitzel\, dann
  wieder wird uns alles zu viel. Wir suchen das Risiko und die Ablenkung
  und suchen doch auch Tiefe und Sinn. \n\nZwischen den Fahrgeschäften in
  den Wagen des Autoscooters zu sitzen und zu feiern ist ein besonderes
  Erlebnis. Wir machen uns mit der bunten versammelten Gemeinde in Gedanken
  auf den Weg durch die Marktstände. Wo gibt’s Gottes gute Ware? Wo
  ermuntert uns der Glaube zu geniessen und für alles Gute zu danken?\nDie
  Musiker um Marco Gottardi sind Garanten für frohe Stimmung und
  aussagekräftige Songs.  \n\nAnschliessend herzliche Einladung zum
  Apéro!\n\nKontakt: Pfrn. Manuela Schäfer\n\nWeitere Infos:
  https://www.refuster.ch/veranstaltung/30350
SUMMARY:Chilbi-Gottesdienst
PRIORITY:5
X-MICROSOFT-CDO-IMPORTANCE:1
CLASS:PUBLIC
END:VEVENT
END:VCALENDAR
