BEGIN:VCALENDAR
PRODID:-//kirchenweb.ch gmbh//veranstaltungsausgabe v2.0//DE
VERSION:2.0
METHOD:PUBLISH
BEGIN:VEVENT
DTSTART:20260410T170000Z
DTEND:20260410T180000Z
LOCATION:Reformierte Kirche Uster\, Zentralstrasse 41\, 8610 Uster
TRANSP:OPAQUE
SEQUENCE:0
UID:30329-veranstaltung@refuster.ch
DTSTAMP:20260407T115949Z
DESCRIPTION:Die Veranstaltungsreihe «Elsbetha Bünzli 1656 / 2026:
  heimgeholt» findet am 10. April mit der Vernissage eines Gedenkortes im
  alten Friedhof und einem öffentlichen Erinnerungsakt in der Kirche zum
  Abschluss.\n\nMit ganz unterschiedlichen Veranstaltungen haben wir
  zurückgeschaut und versucht\, das unendliche Leid zu deuten\, das
  Elsbetha Bünzli aus der Gesellschaft widerfahren ist. Die Eröffnung
  eines Gedenkortes im alten Friedhof und der Erinnerungsakt in der Kirche
  kann geschehenes Leid nicht rückgängig machen. Wir suchen jedoch die
  ‘moralische’ Rehabilitation. Wir entziehen Elsbetha Bünzli dem
  problematischen Zugriff: Sie war keine Hexe. Die Dorfgemeinschaft und die
  Verantwortungsträger von damals hatten versagt. Mit ihrer magischen
  Weltsicht haben sie eine ihr unbequeme Person ‘verteufelt’. Es ist
  juristisches und gesellschaftliches Unrecht geschehen. \n\nWenn wir uns
  mit einer Dunkelstelle unserer eigenen Geschichte auseinandersetzen und
  dem ‘magischen’ Ausgrenzungshandeln von damals\, können wir nicht
  umhin\, den Blick auch auf die heutige Zeit und die aktuelle Gesellschaft
  zu weiten. Wie gehen wir heute mit uns unliebsamen Personen um? Wo
  greifen heute die Mechanismen von Verleumdung\, Demütigung\,
  (struktureller) Gewalt und Ausgrenzung? Wann ergreift auch uns die
  «Grosse Angst» und mit ihr magisch-irrationales Denken und Handeln?
 \nWir fragen nach Schuld und der Möglichkeit von Versöhnung. Letztlich
  bleibt\, unsererseits\, wohl die Bitte um Vergebung.\n\n\nProgramm\n19.00
  Uhr: Vernissage des Gedenkortes im alten Friedhof hinter der Kirche mit
  einem Kunstprojekt von Sonja Feldmeier. \n19.20 Uhr: Öffentlicher
  Erinnerungsakt in der Kirche mit Grussworten resp. Ansprachen von\n.
  Regierungsrätin Jacqueline Fehr\n. Stadtpräsidentin Barbara Thalmann 
 \n. Kirchenpflegepräsidentin Gertrud Dubach\neinem inhaltlichen Beitrag
  von\n. Kirchenratspräsidentin Esther Straub\nund musikalischen
  Improvisationen von\n. Organist Stefan Schättin.\n\nim Anschluss Apéro
  im Kirchgarten\n\n\nKontakt: matthias.ruesch@refuster.ch\n\nWeitere
  Infos: https://www.refuster.ch/veranstaltung/30329
SUMMARY:Elsbetha Bünzli heimgeholt
PRIORITY:5
X-MICROSOFT-CDO-IMPORTANCE:1
CLASS:PUBLIC
END:VEVENT
END:VCALENDAR
