BEGIN:VCALENDAR
PRODID:-//kirchenweb.ch gmbh//veranstaltungsausgabe v2.0//DE
VERSION:2.0
METHOD:PUBLISH
BEGIN:VEVENT
DTSTART:20250523T073000Z
DTEND:20250523T090000Z
LOCATION:Kirchgemeindehaus Kreuz\, Zentralstrasse 40\, 8610 Uster
TRANSP:OPAQUE
SEQUENCE:0
UID:30119-veranstaltung@refuster.ch
DTSTAMP:20250410T072759Z
DESCRIPTION:Kontakt: Maya Nussbaum\n\nWeitere Infos:
  https://www.refuster.ch/veranstaltung/30119
SUMMARY:Offene Chinderinsle
PRIORITY:5
X-MICROSOFT-CDO-IMPORTANCE:1
CLASS:PUBLIC
END:VEVENT
END:VCALENDAR
