BEGIN:VCALENDAR
PRODID:-//kirchenweb.ch gmbh//veranstaltungsausgabe v2.0//DE
VERSION:2.0
METHOD:PUBLISH
BEGIN:VEVENT
DTSTART:20250602T170000Z
DTEND:20250602T173000Z
LOCATION:Beim Klimaball im Stadtpark\, \,
TRANSP:OPAQUE
SEQUENCE:0
UID:30096-veranstaltung@refuster.ch
DTSTAMP:20250529T093645Z
DESCRIPTION:Hinter dem Projekt des «Klimaballs» stehen viele Menschen
  und Organisationen\, die zum Teil mit grossem freiwilligem Engagement
  diesen Ball ins Rollen gebracht haben. Die Hauptverantwortung trägt der
  Verein Permeable. Er ist darauf spezialisiert\, gesellschaftliche Themen
  einer breiten Öffentlichkeit zugänglich zu machen\, zu sensibilisieren
  und zum Handeln anzuregen.\nIm Verein vertreten sind Expertinnen in den
  Bereichen Design\, Szenografie\, Musikwissenschaft\, Dramaturgie\,
  Kommunikation & Social Media\, Soziale Arbeit\, Gaming\, VR und
  Journalismus.\nDer öffentliche Raum wird als Ort verstanden\, der für
  alle zugänglich ist und in dem eine thematische Auseinandersetzung
  stattfinden soll.\nMit diesen Worten wird das Projekt auf der Website
  «Klimaball.ch» beschrieben.\n\nWir Reformierten dürfen uns bei der
  Teilhabe an diesem Projekt der katholischen Kirche anschliessen.
  Vielleicht werden im gemeinsamen Gebet auch noch weitere Denominationen
  dazu stossen…\n\n\n\nKontakt: Marcel Peterhans\, St. Andreas\nAndrea
  Brunner\, EMK Uster\n\nWeitere Infos:
  https://www.refuster.ch/veranstaltung/30096
SUMMARY:Gebet zum Klimaball
PRIORITY:5
X-MICROSOFT-CDO-IMPORTANCE:1
CLASS:PUBLIC
END:VEVENT
END:VCALENDAR
