BEGIN:VCALENDAR
PRODID:-//kirchenweb.ch gmbh//veranstaltungsausgabe v2.0//DE
VERSION:2.0
METHOD:PUBLISH
BEGIN:VEVENT
DTSTART:20250611T140000Z
DTEND:20250611T160000Z
LOCATION:Alters- und Pflegeheim Im Grund\, Wagerenstr. 20\, 8610 Uster
TRANSP:OPAQUE
SEQUENCE:0
UID:30018-veranstaltung@refuster.ch
DTSTAMP:20250319T120838Z
DESCRIPTION:«Slow Dating» Das ist neu in Uster möglich.\nWir begleiten
  Sie in ein neues Abenteuer. Sie sind alleine unterwegs und wünschen sich
  eine Freundschaft oder eine neue Partnerschaft? Ohne eine
  Partnervermittlung aus dem Internet\, aufeinander zugehen und
  Schmetterlinge spüren.\n\nDer Begriff «Slow Dating» ist eine
  liebevolle Bezeichnung für eine Freundschafts- Veranstaltung für
  interessierte ab sechzig Jahren. Vielleicht suchen Sie einen Ort\, wo Sie
  geschützt ein Gegenüber kennenlernen können. Spielerisch und ohne
  Zwang finden wir heraus\, was die Vorlieben\, Hobbys und die Motivation
  der Anwesenden sind. Ungezwungen bei einem Cupli oder Getränk werden
  danach die ersten Gespräche geführt. In drei arrangierten 5 Minuten
  Paargesprächen können Sie sich\, ein persönliches Bild der
  Wunschkandidaten machen.\nWas kostet Sie dies? Abenteuerlust\,
  Überwindung und Mut\, sich anzumelden. Zusätzlich 15.00 für Getränke
  und Snacks. Es lohnt sich\, denn der Mensch ist nicht ein Individuum das
  alleine durch das Leben gehen sollte! Anmeldung erwünscht\, siehe Flyer.
 \n\n11. Juni 2025\, Slow Dating\, 16.00 bis 18.00 Uhr im Saal des Alters-
  und Pflegeheim im Grund\, Wagerenstrasse 20\, 8610 Uster\n\n\nKontakt:
  Béatrice Spörri\n\nWeitere Infos:
  https://www.refuster.ch/veranstaltung/30018
SUMMARY:Slow Dating
PRIORITY:5
X-MICROSOFT-CDO-IMPORTANCE:1
CLASS:PUBLIC
END:VEVENT
END:VCALENDAR
