BEGIN:VCALENDAR
PRODID:-//kirchenweb.ch gmbh//veranstaltungsausgabe v2.0//DE
VERSION:2.0
METHOD:PUBLISH
BEGIN:VEVENT
DTSTART:20250603T170000Z
DTEND:20250603T190000Z
LOCATION:Kirchgemeindehaus Kreuz\, Zentralstrasse 40\, 8610 Uster
TRANSP:OPAQUE
SEQUENCE:0
UID:29936-veranstaltung@refuster.ch
DTSTAMP:20250602T073511Z
DESCRIPTION:.https://www.refuster.ch/bericht/1039\n\nKontakt: Jörg
  Heiniger\n\nWeitere Infos: https://www.refuster.ch/veranstaltung/29936
SUMMARY:Bildung junger Mädchen und Frauen und Friedensförderung in
  Äthiopien
PRIORITY:5
X-MICROSOFT-CDO-IMPORTANCE:1
CLASS:PUBLIC
END:VEVENT
END:VCALENDAR
