BEGIN:VCALENDAR
PRODID:-//kirchenweb.ch gmbh//veranstaltungsausgabe v2.0//DE
VERSION:2.0
METHOD:PUBLISH
BEGIN:VEVENT
DTSTART:20250704T140000Z
DTEND:20250704T150000Z
LOCATION:Alters- und Pflegeheim Im Grund\, Wagerenstr. 20\, 8610 Uster
TRANSP:OPAQUE
SEQUENCE:0
UID:29815-veranstaltung@refuster.ch
DTSTAMP:20250212T102036Z
DESCRIPTION:Wer Gott liebt\, gleicht einer immergrünen Palme\, er wird
  mächtig wie eine Zeder auf dem Libanongebirge\n\nKontakt: Béatrice
  Spörri\n\nWeitere Infos: https://www.refuster.ch/veranstaltung/29815
SUMMARY:Gottesdienst im Grund
PRIORITY:5
X-MICROSOFT-CDO-IMPORTANCE:1
CLASS:PUBLIC
END:VEVENT
END:VCALENDAR
