BEGIN:VCALENDAR
PRODID:-//kirchenweb.ch gmbh//veranstaltungsausgabe v2.0//DE
VERSION:2.0
METHOD:PUBLISH
BEGIN:VEVENT
DTSTART:20250616T101500Z
DTEND:20250616T114500Z
LOCATION:Kirchgemeindehaus Kreuz\, Zentralstrasse 40\, 8610 Uster
TRANSP:OPAQUE
SEQUENCE:0
UID:29610-veranstaltung@refuster.ch
DTSTAMP:20250129T101957Z
DESCRIPTION:An den ausgeschriebenen Montagen servieren wir ein frisch
  gekochtes\, einfaches und reichhaltiges Überraschungs-Menu. Der
  Menusalat\, die warme Hauptmahlzeit und ein Dessert mit Kaffee oder Tee
  kosten Fr. 7.00. Bitte bringen Sie den genauen Betrag mit.\n \nBei
  sonnigem Wetter machen wir es uns draussen gemütlich\, ansonsten im Raum
  Erde. Pünktlich um 12.15 Uhr wird das Essen bereit sein. \n\n\nKontakt:
  Béatrice Spörri\n\nWeitere Infos:
  https://www.refuster.ch/veranstaltung/29610
SUMMARY:Mittagstisch
PRIORITY:5
X-MICROSOFT-CDO-IMPORTANCE:1
CLASS:PUBLIC
END:VEVENT
END:VCALENDAR
