BEGIN:VCALENDAR
PRODID:-//kirchenweb.ch gmbh//veranstaltungsausgabe v2.0//DE
VERSION:2.0
METHOD:PUBLISH
BEGIN:VEVENT
DTSTART:20250626T120000Z
DTEND:20250626T140000Z
LOCATION:Kirchgemeindehaus Kreuz\, Zentralstrasse 40\, 8610 Uster
TRANSP:OPAQUE
SEQUENCE:0
UID:29584-veranstaltung@refuster.ch
DTSTAMP:20250625T070023Z
DESCRIPTION:Herzliche Einladung zum bäumigen Frauentreff!\nDer Baum ist
  das Symbol für das Leben und jeder ist einzigartig und ein Individuum.
  Wir tauchen ein in die Welt der Bäume\, von der Wurzel bis zur Krone. \n
 \nKontakt: Rahel Aschwanden\n\nWeitere Infos:
  https://www.refuster.ch/veranstaltung/29584
SUMMARY:Frauentreff
PRIORITY:5
X-MICROSOFT-CDO-IMPORTANCE:1
CLASS:PUBLIC
END:VEVENT
END:VCALENDAR
