BEGIN:VCALENDAR
PRODID:-//kirchenweb.ch gmbh//veranstaltungsausgabe v2.0//DE
VERSION:2.0
METHOD:PUBLISH
BEGIN:VEVENT
DTSTART:20250616T165500Z
DTEND:20250616T180000Z
LOCATION:Reformierte Kirche Uster\, Zentralstrasse 41\, 8610 Uster
TRANSP:OPAQUE
SEQUENCE:0
UID:29201-veranstaltung@refuster.ch
DTSTAMP:20250205T150900Z
DESCRIPTION:Wir laden alle herzlich ein\, die eine Form des meditativen
  Gebets gemeinsam mit anderen im Kreis praktizieren und üben möchten.
  Die Stunde wird jeweils von jemandem aus unserem Team angeleitet. Zweimal
  Sitzen (je ca. 20 Minuten)\, dazwischen fünf Minuten Gehen\, alles im
  Schweigen\, eingerahmt von zwei Liedern und einleitenden Texten.\n\n•
  Sitzbänkchen und Stühle sind vorhanden.\n• In der Kirche kann es
  kühl sein (warme Kleider).\n\n•	Am 9.6. (Pfingstmontag) fällt das
  Sitzen aus.\n•	Ab 14.7. Sommerferien; Wiederbeginn: 18.8.2025\n
 \nTelefonnummern:\nSimone Joerin Fux		043 343 19 91 / 079 377 80 84
 \nMarkus Leuenberger		044 940 01 19 / oder E-Mail\nMarcel Peterhans		079
  236 97 44 / 044 944 85 45\nMatthias Rüesch		077 208 70 04\n\n\n
 \nKontakt: Matthias Rüsch\nMarcel Peterhans\n\nWeitere Infos:
  https://www.refuster.ch/veranstaltung/29201
SUMMARY:Schritte in die Stille
PRIORITY:5
X-MICROSOFT-CDO-IMPORTANCE:1
CLASS:PUBLIC
END:VEVENT
END:VCALENDAR
