BEGIN:VCALENDAR
PRODID:-//kirchenweb.ch gmbh//veranstaltungsausgabe v2.0//DE
VERSION:2.0
METHOD:PUBLISH
BEGIN:VEVENT
DTSTART:20250723T133000Z
DTEND:20250723T141500Z
LOCATION:Stadtparkresidenz\, Bewohnerrestaurant Ustra (EG)\, Theaterstr.
  4\, 8610 Uster
TRANSP:OPAQUE
SEQUENCE:0
UID:29092-veranstaltung@refuster.ch
DTSTAMP:20250618T081459Z
DESCRIPTION:Ökumenische Andacht - Gute Worte und Musik in der Wochenmitte
 \n\nKontakt: Manuela Schäfer\n\nWeitere Infos:
  https://www.refuster.ch/veranstaltung/29092
SUMMARY:Rast in der Woche
PRIORITY:5
X-MICROSOFT-CDO-IMPORTANCE:1
CLASS:PUBLIC
END:VEVENT
END:VCALENDAR
