BEGIN:VCALENDAR
PRODID:-//kirchenweb.ch gmbh//veranstaltungsausgabe v2.0//DE
VERSION:2.0
METHOD:PUBLISH
BEGIN:VEVENT
DTSTART:20250704T160000Z
DTEND:20250704T200000Z
LOCATION:Reformierte Kirche Uster\, Zentralstrasse 41\, 8610 Uster
TRANSP:OPAQUE
SEQUENCE:0
UID:28818-veranstaltung@refuster.ch
DTSTAMP:20250701T115155Z
DESCRIPTION:Kontakt: peter.freitag@refuster.ch\n\nWeitere Infos:
  https://www.refuster.ch/veranstaltung/28818
SUMMARY:«Mendelssohn ad hoc!»
PRIORITY:5
X-MICROSOFT-CDO-IMPORTANCE:1
CLASS:PUBLIC
END:VEVENT
END:VCALENDAR
