BEGIN:VCALENDAR
PRODID:-//kirchenweb.ch gmbh//veranstaltungsausgabe v2.0//DE
VERSION:2.0
METHOD:PUBLISH
BEGIN:VEVENT
DTSTART:20250618T080000Z
DTEND:20250618T091500Z
LOCATION:Kirchgemeindehaus Kreuz\, Zentralstrasse 40\, 8610 Uster
TRANSP:OPAQUE
SEQUENCE:0
UID:28724-veranstaltung@refuster.ch
DTSTAMP:20241010T070235Z
DESCRIPTION:Kontakt: Matthias Rüsch\n\nWeitere Infos:
  https://www.refuster.ch/veranstaltung/28724
SUMMARY:gemeinsam Bibel lesen
PRIORITY:5
X-MICROSOFT-CDO-IMPORTANCE:1
CLASS:PUBLIC
END:VEVENT
END:VCALENDAR
