BEGIN:VCALENDAR
PRODID:-//kirchenweb.ch gmbh//veranstaltungsausgabe v2.0//DE
VERSION:2.0
METHOD:PUBLISH
BEGIN:VEVENT
DTSTART:20250605T120000Z
DTEND:20250605T140000Z
LOCATION:Kirchgemeindehaus Kreuz\, Zentralstrasse 40\, 8610 Uster
TRANSP:OPAQUE
SEQUENCE:0
UID:28560-veranstaltung@refuster.ch
DTSTAMP:20250702T071048Z
DESCRIPTION:«in jedem Menschen steckt ein Clown»\nDer berühmte Clown
  Charly Rivel hat einmal gesagt:» Jeder Mensch ist ein Clown\, aber nur
  wenige haben den Mut\, es zu zeigen.» Mit diesem Wissen im Rucksack\,
  hatte ich mich damals in der Ausbildung zum Kontakt Clown beworben.
 \nWeshalb und warum solch eine Ausbildung? Ich wollte wissen und erfahren
  ob in mir ein Clown steck.  Seit meiner Zeit als Kind bewundere ich die
  grossen Clown mit all ihren typischen Facetten. Es war eine grossartige
  Weiterbildung und ich bin mit jedem Modul gewachsen und habe eine andere
  Seite von mir entdeckt. Die Frage nach Gott stellt sich im farbigen
  Gewand und mit roter Nase nochmals ganz anders. Kennen mich die Menschen
  im Alters und Pflegeheim als Diakonin.  Dies und vieles mehr werde ich
  Ihnen präsentieren und mit clownesken Bildern unterlegen.\nLassen Sie
  sich Überraschen und anschliessend werden wir wie immer Kaffee und
  Gebäck geniessen und den Nachmittag mit lachen und plaudern ausklingen
  lassen.\n\n\nKontakt: Béatrice Spörri\n\nWeitere Infos:
  https://www.refuster.ch/veranstaltung/28560
SUMMARY:Kultur und Kaffee
PRIORITY:5
X-MICROSOFT-CDO-IMPORTANCE:1
CLASS:PUBLIC
END:VEVENT
END:VCALENDAR
