BEGIN:VCALENDAR
PRODID:-//kirchenweb.ch gmbh//veranstaltungsausgabe v2.0//DE
VERSION:2.0
METHOD:PUBLISH
BEGIN:VEVENT
DTSTART:20250630T173000Z
DTEND:20250630T200000Z
LOCATION:Kirchgemeindehaus Kreuz\, Zentralstrasse 40\, 8610 Uster
TRANSP:OPAQUE
SEQUENCE:0
UID:28557-veranstaltung@refuster.ch
DTSTAMP:20241003T124015Z
DESCRIPTION:Beschäftigt Sie die Frage: „Ob nur Sie alleine diese Trauer
  und Verlorenheit quält und ist das normal\, in dieser Situation des
  Verlustes so zu fühlen?“\nVielleicht ist dies der richtige Zeitpunkt\,
  um zusammen mit anderen betroffenen Personen über das immer noch
  Unfassbare und über Ihre Trauer reden zu können. In unserer
  Kirchgemeinde findet eine offene Gespräch statt.\n\n\nKontakt: Béatrice
  Spörri\n\nWeitere Infos: https://www.refuster.ch/veranstaltung/28557
SUMMARY:Trauercafé
PRIORITY:5
X-MICROSOFT-CDO-IMPORTANCE:1
CLASS:PUBLIC
END:VEVENT
END:VCALENDAR
