BEGIN:VCALENDAR
PRODID:-//kirchenweb.ch gmbh//veranstaltungsausgabe v2.0//DE
VERSION:2.0
METHOD:PUBLISH
BEGIN:VEVENT
DTSTART:20250526T070000Z
DTEND:20250526T080000Z
LOCATION:Kirchgemeindehaus Kreuz\, Zentralstrasse 40\, 8610 Uster
TRANSP:OPAQUE
SEQUENCE:0
UID:28530-veranstaltung@refuster.ch
DTSTAMP:20241211T130957Z
DESCRIPTION:Gemeinsam Kaffee trinken. Austauschen und plaudern in
  gemütlicher Atmosphäre.\nEin Treffpunkt der einlädt zum Verweilen\,
  Plaudern und Lachen. Ab 10.00 spätestens wird im gleichen Raum für den
  Mittagstisch\, Salat und Gemüse gerüstet. So ist sicher ab dieser Zeit
  eine Person anwesend.\n\nKontakt: Béatrice Spörri\n\nWeitere Infos:
  https://www.refuster.ch/veranstaltung/28530
SUMMARY:Treffpunkt Erde geöffnet bis 12.00 Uhr
PRIORITY:5
X-MICROSOFT-CDO-IMPORTANCE:1
CLASS:PUBLIC
END:VEVENT
END:VCALENDAR
