BEGIN:VCALENDAR
PRODID:-//kirchenweb.ch gmbh//veranstaltungsausgabe v2.0//DE
VERSION:2.0
METHOD:PUBLISH
BEGIN:VEVENT
DTSTART:20250604T120000Z
DTEND:20250604T143000Z
LOCATION:Kirchgemeindehaus Greifensee\, Im Städli 2\, 8606 Greifensee
TRANSP:OPAQUE
SEQUENCE:0
UID:28486-veranstaltung@refuster.ch
DTSTAMP:20250519T121526Z
DESCRIPTION:Der GRINA-Träff wird von den evangelisch-reformierten 
 \nKirchgemeinden Uster und Greifensee angeboten und ist \nfür alle
  Interessierten ab 50+ offen. Mittwochnachmittag von 14.00- 16.30 Uhr\n\n
 \n\n«Die Magie der Farben»\nFarben sind mehr als nur visuelle
  Eindrücke; sie sind Ausdruck von \nEmotionen\, Stimmungen und
  kulturellen Bedeutungen. Jede Farbe hat ihre \neigene Symbolik und kann
  unterschiedliche Gefühle hervorrufen. Rot steht \noft für Leidenschaft
  und Energie\, während Blau Ruhe und Gelassenheit ver-mittelt. Gelb
  strahlt Freude und Optimismus aus\, während Grün mit Natur \nund
  Erneuerung assoziiert wird.\nFarben sind faszinierend\, inspirierend und
  wir treffen sie täglich rund um uns herum an.\n Gemeinsam machen wir uns
  auf die Suche nach Emotionen und Erlebnissen zu diesem Thema und freuen
  uns über die spannenden (Lebens) Geschichten der Teilnehmenden.\n\n\n\n
 \nFür Kaffee und Kuchen an den Anlässen wird eine Kollekte erhoben.\nAuf
  Anfrage bieten wir gerne einen Fahrdienst an.\n\nWir freuen uns auf den
  lebendigen Nachbarschaftsaustausch mit reger Teilnahme.\nMena Ramseyer\,
  Diakonin aus Greifensee und Beatrice Spörri aus Uster\n\n\n\nKontakt:
  Béatrice Spörri\nBrigitte Ulrich\n\nWeitere Infos:
  https://www.refuster.ch/veranstaltung/28486
SUMMARY:Grina Träff
PRIORITY:5
X-MICROSOFT-CDO-IMPORTANCE:1
CLASS:PUBLIC
END:VEVENT
END:VCALENDAR
