BEGIN:VCALENDAR
PRODID:-//kirchenweb.ch gmbh//veranstaltungsausgabe v2.0//DE
VERSION:2.0
METHOD:PUBLISH
BEGIN:VEVENT
DTSTART:20250615T160000Z
DTEND:20250615T170000Z
LOCATION:Reformierte Kirche Uster\, Zentralstrasse\, 8610 Uster
TRANSP:OPAQUE
SEQUENCE:0
UID:26652-veranstaltung@refuster.ch
DTSTAMP:20250513T125429Z
DESCRIPTION:Jugendgottesdienst mit anschliessender Möglichkeit zum Essen
  und Gemeinschaft im Bumi.\n\nKontakt: Sascha Dollenmeier\nEliane Würmli
 \n\nWeitere Infos: https://www.refuster.ch/veranstaltung/26652
SUMMARY:Abendstern
PRIORITY:5
X-MICROSOFT-CDO-IMPORTANCE:1
CLASS:PUBLIC
END:VEVENT
END:VCALENDAR
