BEGIN:VCALENDAR
PRODID:-//kirchenweb.ch gmbh//veranstaltungsausgabe v2.0//DE
VERSION:2.0
METHOD:PUBLISH
BEGIN:VEVENT
DTSTART:20250613T140000Z
DTEND:20250613T144500Z
LOCATION:Alters- und Pflegeheim Im Grund\, Wagerenstr. 20\, 8610 Uster
TRANSP:OPAQUE
SEQUENCE:0
UID:25602-veranstaltung@refuster.ch
DTSTAMP:20250602T054329Z
DESCRIPTION:Öffentlicher Gottesdienst im Alters- und Pflegezentrum und
  Quartier\, zu dem alle Interessierten herzlich eingeladen sind.
  Nachdenken über ein Bibelwort im Jahreslauf oder Kirchenjahr\, Musik\,
  gemeinsames Singen und ein Freiwilligen-Team zur Begleitung erwarten Sie.
  \n\nDer Gottesdienst ist dauert ca.45min.\, wir freuen uns auf Ihren
  Besuch.\n\nKontakt: Pascale Rondez\n\nWeitere Infos:
  https://www.refuster.ch/veranstaltung/25602
SUMMARY:Gottesdienst Im Grund
PRIORITY:5
X-MICROSOFT-CDO-IMPORTANCE:1
CLASS:PUBLIC
END:VEVENT
END:VCALENDAR
