BEGIN:VCALENDAR
PRODID:-//kirchenweb.ch gmbh//veranstaltungsausgabe v2.0//DE
VERSION:2.0
METHOD:PUBLISH
BEGIN:VEVENT
DTSTART:20250529T080000Z
DTEND:20250529T090000Z
LOCATION:Niederuster / Besenbeiz Schärer\, \,
TRANSP:OPAQUE
SEQUENCE:0
UID:25070-veranstaltung@refuster.ch
DTSTAMP:20250903T120324Z
DESCRIPTION:Der Auffahrtsgottesdienst in Monis und Hanspis Bäsebeiz in
  Niederuster strahlt immer eine eigene Atmosphäre aus: Wir sitzen eng
  zusammen. Die Spatzen zwitschern lauthals unter dem Dach. Nicht alles ist
  wohl geordnet\, aber dafür gut improvisiert. Hier tönt\, riecht und
  schmeckt Kirche anders. Einmal im Jahr ist Scheunen-Kirche an Auffahrt. 
 \n\nMusikalisch füllt die Bäsebeiz das Manouche Swing Quartett (Martin
  Lehmann\, Violine Jürg Zimmermann\, Flügelhorn Maxime Dumonal\, Gitarre
  Fridolin Berger\, Kontrabass). Das Manouche Swing Quartett spielt knackig
  frisch und gleichzeitig routiniert. Das wird möglich\, weil die vier
  Musiker seit Jahren zusammen mit weiteren Enthusiasten die Musik von
  Django Reinhardt pflegen\, in dieser Formation aber zum allerersten Mal
  zu hören sind. Neben swingenden Nummern mit viel Groove erklingen auch
  berührende Kompositionen mit subtiler Harmonik. \n\nDas
  Quartiergottesdienst-Team Niederuster führt durch die Feier. Und im
  Anschluss verkauft der Quartierverein Niederuster Würste und Getränke.
  Je nach Wetter empfiehlt sich warme Kleidung. \n\nKuchen für das
  Kuchenbüffet werden gerne entgegengenommen. Vielen Dank!\n\nWir freuen
  uns auf einen zahlreichen Besuch. Herzlich willkommen!\nMatthias Rüsch
  und das Quartiergottesdienst-Team\n\nKontakt: Pfr. Matthias Rüsch\n
 \nWeitere Infos: https://www.refuster.ch/veranstaltung/25070
SUMMARY:Auffahrtsgottesdienst
PRIORITY:5
X-MICROSOFT-CDO-IMPORTANCE:1
CLASS:PUBLIC
END:VEVENT
END:VCALENDAR
