BEGIN:VCALENDAR
PRODID:-//kirchenweb.ch gmbh//veranstaltungsausgabe v2.0//DE
VERSION:2.0
METHOD:PUBLISH
BEGIN:VEVENT
DTSTART:20250706T080000Z
DTEND:20250706T090000Z
LOCATION:Reformierte Kirche Uster\, Zentralstrasse 41\, 8610 8610 Uster
TRANSP:OPAQUE
SEQUENCE:0
UID:25058-veranstaltung@refuster.ch
DTSTAMP:20250703T125139Z
DESCRIPTION:«Was ihr einem dieser meiner Geringsten getan habt\, das habt
  ihr mir getan.»\nIm Christentum lebt die Erkenntnis\, dass wir alle
  fehlerhaft\, ja\, durchaus mangelhaft und bedürftig sind. Nicht\, um uns
  klein zu reden\, sondern weil wir täglich erfahren: wir sind leider
  nicht perfekt. Im Christentum liegt der Trost darin\, dass wir nun
  trotzdem angenommen und geliebt sind. Wir müssen uns also nicht
  zwanghaft selber optimieren. Sondern dürfen darauf vertrauen\, von Gott
  her 'optimiert' zu werden\, also Vergebung zu erfahren\, Versöhnung.
 \nEin eindrückliches Erlebnis mit Salvatore  hat mir das (wieder) vor
  Augen geführt. Salvatore ist sozusagen ein italienischer 'Bruder im
  Geist' unseres Abderhaldens. Die Predigt erzählt also\, nein\, sie
  führt uns in eine Geschichte.\n\nje nach Witterung: Apéro oder
  Chilekafi\n\nhttps://www.youtube.com/channel/UC-IpHezTIP50KgeMFogqYjA\n
 \nhttps://www.refuster.ch/Gemeindegottesdienst\n\n\nKontakt: Pfr. Matthias
  Rüsch\n\nWeitere Infos: https://www.refuster.ch/veranstaltung/25058
SUMMARY:Gottesdienst mit Abendmahl
PRIORITY:5
X-MICROSOFT-CDO-IMPORTANCE:1
CLASS:PUBLIC
END:VEVENT
END:VCALENDAR
