BEGIN:VCALENDAR
PRODID:-//kirchenweb.ch gmbh//veranstaltungsausgabe v2.0//DE
VERSION:2.0
METHOD:PUBLISH
BEGIN:VEVENT
DTSTART:20250622T080000Z
DTEND:20250622T090000Z
LOCATION:Reformierte Kirche Uster\, Zentralstrasse 41\, 8610 8610 Uster
TRANSP:OPAQUE
SEQUENCE:0
UID:25056-veranstaltung@refuster.ch
DTSTAMP:20250609T132243Z
DESCRIPTION:Nikodemus: "Von neuem geboren?"\nWer begreift schon Gott? Als
  ob jemand den Allmächtigen\, den ganz Anderen\, den ganz Nahen verstehen
  würde. Und doch will Jesus uns in sein Reich einladen. Nur wo ist der
  Eingang? Etwa bei einer Neugeburt? Wie soll das gehen?\nNoch ganz im
  Nachklang zu Pfingsten und der Ausgiessung des Heiligen Geistes
  betrachten wir die Geschichte der nächtlichen Begegnung von Jesus mit
  Nikodemus. Es geht um die Frage von der Möglichkeit von Veränderung und
  letztlich um die ganz grosse Frage nach dem gelungenen Leben.\n\n\nNach
  dem Gottesdienst sind alle je nach Witterung herzlich zum Chile-Apéro
  oder Chilekafi eingeladen.\n
 \nhttps://www.youtube.com/channel/UC-IpHezTIP50KgeMFogqYjA\n
 \nhttps://www.refuster.ch/Gemeindegottesdienst\n\n\nKontakt: Christina
  Reuter\n\nWeitere Infos: https://www.refuster.ch/veranstaltung/25056
SUMMARY:Gottesdienst
PRIORITY:5
X-MICROSOFT-CDO-IMPORTANCE:1
CLASS:PUBLIC
END:VEVENT
END:VCALENDAR
