BEGIN:VCALENDAR
PRODID:-//kirchenweb.ch gmbh//veranstaltungsausgabe v2.0//DE
VERSION:2.0
METHOD:PUBLISH
BEGIN:VEVENT
DTSTART:20250608T080000Z
DTEND:20250608T090000Z
LOCATION:Reformierte Kirche Uster\, Zentralstrasse 41\, 8610 8610 Uster
TRANSP:OPAQUE
SEQUENCE:0
UID:25055-veranstaltung@refuster.ch
DTSTAMP:20251001T092013Z
DESCRIPTION:feurig rot\nAn Pfingsten feiern wir die Geistes-Gegenwart und
  folgen den leuchtenden Feuerzeichen Gottes. Unsere frisch renovierte
  Orgel wird uns dabei klang- und kraftvoll begleiten.\n\nStürmisch und
  feurig kann sie sein\, die Heilige Geistkraft\, so erzählt es die Bibel:
  Zungen wie von Feuer\, energiegeladen\, entzündend\, erhellend (vgl.
  Apostelgeschichte 2\,3). Darum trägt Pfingsten die Farbe Rot: feurig rot
  wie Gottes Geist\, rot wie die Liebe. \n\nWarum nicht für einmal
  Pfingstrot sehen? Wir laden Sie ein\, mit einem roten Farbtupfer zum
  Gottesdienst zu kommen\, sei es ein rotes Kleidungsstück oder
  Accessoire. \n\nAn Pfingsten werden wir uns ausserdem von Sozialdiakonin
  Maya Nussbaum verabschieden\, die sich 26 Jahre mit Feuer und Flamme in
  unserer Kirchgemeinde engagiert hat. \n\nApéro riche im Anschluss.\n
 \nhttps://www.youtube.com/channel/UC-IpHezTIP50KgeMFogqYjA\n
 \nhttps://www.refuster.ch/Gemeindegottesdienst\n\n\nKontakt: Pfrn. Sabine
  Stückelberger\n\nWeitere Infos:
  https://www.refuster.ch/veranstaltung/25055
SUMMARY:Pfingstgottesdienst mit Abendmahl
PRIORITY:5
X-MICROSOFT-CDO-IMPORTANCE:1
CLASS:PUBLIC
END:VEVENT
END:VCALENDAR
