BEGIN:VCALENDAR
PRODID:-//kirchenweb.ch gmbh//veranstaltungsausgabe v2.0//DE
VERSION:2.0
METHOD:PUBLISH
BEGIN:VEVENT
DTSTART:20250601T080000Z
DTEND:20250601T090000Z
LOCATION:Reformierte Kirche Uster\, Zentralstrasse 41\, 8610 8610 Uster
TRANSP:OPAQUE
SEQUENCE:0
UID:25054-veranstaltung@refuster.ch
DTSTAMP:20250509T083750Z
DESCRIPTION:Höret\, so werdet ihr leben!\nWas sind Sie für ein Typ?
  Erfassen Sie neue Inhalte eher über das Sehen oder über das Hören?
  Oder etwa über das motorische Gedächtnis? Im heutigen Gottesdienst
  nimmt das Hören eine besondere Stellung ein. Gott ruft und lädt uns
  ein. Das Hören des Rufes gelingt uns unterschiedlich. Und doch ist es
  elementar entscheidend zu hören. Wir gehen dieser grosszügigen
  göttlichen Einladung nach\, diesem mächtigen Gott\, der um uns wirbt
  – vielleicht auch ein wenig verzweifelt um uns wirbt\, und dabei doch
  ganz Gott\, ganz souverän bleibt.\n\n\nNach dem Gottesdienst sind alle
  je nach Witterung herzlich zum Chile-Apéro oder Chilechafi eingeladen.\n
 \nhttps://www.youtube.com/channel/UC-IpHezTIP50KgeMFogqYjA\n
 \nhttps://www.refuster.ch/Gemeindegottesdienst\n\n\nKontakt: Christina
  Reuter\n\nWeitere Infos: https://www.refuster.ch/veranstaltung/25054
SUMMARY:Gottesdienst
PRIORITY:5
X-MICROSOFT-CDO-IMPORTANCE:1
CLASS:PUBLIC
END:VEVENT
END:VCALENDAR
