BEGIN:VCALENDAR
PRODID:-//kirchenweb.ch gmbh//veranstaltungsausgabe v2.0//DE
VERSION:2.0
METHOD:PUBLISH
BEGIN:VEVENT
DTSTART:20250413T080000Z
DTEND:20250413T090000Z
LOCATION:Schulhausplatz\, Apothekerstr.\, 8610 Uster
TRANSP:OPAQUE
SEQUENCE:0
UID:24859-veranstaltung@refuster.ch
DTSTAMP:20250425T151027Z
DESCRIPTION:An der Chilbi wird unser Gleichgewichtsorgan
  strapaziert...Gleichgewicht - das ist auch ein biblisches Thema: Sei
  nicht übergerecht\, und gib dich nicht gar zu weise. Warum willst du
  scheitern? Gut ist es\, wenn du dich an das eine hältst und auch vom
  anderen nicht lässt. Wer Gott fürchtet\, wird beidem gerecht...
 \nZwischen Hosianna und Kreuziget ihn...\n\nKontakt: Pfrn. Bettina
  Wiesendanger\n\nWeitere Infos:
  https://www.refuster.ch/veranstaltung/24859
SUMMARY:Chilbi-Gottesdienst am Palmsonntag
PRIORITY:5
X-MICROSOFT-CDO-IMPORTANCE:1
CLASS:PUBLIC
END:VEVENT
END:VCALENDAR
