BEGIN:VCALENDAR
PRODID:-//kirchenweb.ch gmbh//veranstaltungsausgabe v2.0//DE
VERSION:2.0
METHOD:PUBLISH
BEGIN:VEVENT
DTSTART:20250525T080000Z
DTEND:20250525T090000Z
LOCATION:Näniker Chilbi\, 8606 Nänikon\, Scooterbahn entlang der
  Stationsstrasse beim Volg\, \, 8606 Nänikon
TRANSP:OPAQUE
SEQUENCE:0
UID:24808-veranstaltung@refuster.ch
DTSTAMP:20250521T092706Z
DESCRIPTION:Bahn frei!\n\n\nStimmlich kann das Jodeln zu einer
  Grenzerfahrung werden. Wir loten im Zuhören und mit unserem eigenen
  Mundwerk Grenzen aus. Wie unsichtbare\, verschlungenen Pfade durch
  Beleuchtungstechnik sichtbar werden\, so wird unsere Zungenfertigkeit im
  Naturjodel erfahrbar. Beim Ausloten dieser Grenzen gibt es schmale und
  breite Wege\, wie in Mat. 7: Richtet nicht\, damit ihr nicht gerichtet
  werdet! Denn wie ihr richtet\, so werdet ihr gerichtet werden…
  Bittet\, so wird euch gegeben; sucht\, so werdet ihr finden; klopft an\,
  so wird euch aufgetan. Denn wer bittet\, empfängt; wer sucht\, der
  findet; wer anklopft\, dem wird aufgetan. Also: Wie immer ihr wollt\,
  dass die Leute mit euch umgehen\, so geht auch mit ihnen um! Denn darin
  besteht das Gesetz und die Propheten. Tretet ein durch das enge Tor! Denn
  weit ist das Tor und breit der Weg\, der ins Verderben führt\, und viele
  sind es\, die da hineingehen. Wie eng ist das Tor und wie schmal der
  Weg\, der ins Leben führt...\n\nKontakt: Pfrn. Bettina Wiesendanger \n\n
 \nWeitere Infos: https://www.refuster.ch/veranstaltung/24808
SUMMARY:Näniker Chilbi-Gottesdienst
PRIORITY:5
X-MICROSOFT-CDO-IMPORTANCE:1
CLASS:PUBLIC
END:VEVENT
END:VCALENDAR
