BEGIN:VCALENDAR
PRODID:-//kirchenweb.ch gmbh//veranstaltungsausgabe v2.0//DE
VERSION:2.0
METHOD:PUBLISH
BEGIN:VEVENT
DTSTART:20250628T150000Z
DTEND:20250628T160000Z
LOCATION:Schulhaus Sulzbach\, Oberdorfstrasse 14\, 8614 Sulzbach
TRANSP:OPAQUE
SEQUENCE:0
UID:20767-veranstaltung@refuster.ch
DTSTAMP:20251021T145808Z
DESCRIPTION:Lebensfreude in Hülle und Fülle: Mit Jesus sitzt niemand auf
  dem Trockenen\nSo lautet das Motto der Andacht inmitten der Feier.
  Herzlich willkommen!\n\nDer Dorfverein Sulzbach lädt zum traditionellen
  Dorffest\, ein gemütlicher Sommeranlass mit Freund_innen\, neuen und
  alten Bekannten und Auswärtige. Für Speisen und Getränke ist gesorgt.
  Es steht ein grosses Zelt zur Verfügung.\n\n\n\n\nKontakt: Manuela
  Schäfer\n\nWeitere Infos: https://www.refuster.ch/veranstaltung/20767
SUMMARY:Andacht am Dorffest Sulzbach
PRIORITY:5
X-MICROSOFT-CDO-IMPORTANCE:1
CLASS:PUBLIC
END:VEVENT
END:VCALENDAR
