BEGIN:VCALENDAR
PRODID:-//kirchenweb.ch gmbh//veranstaltungsausgabe v2.0//DE
VERSION:2.0
METHOD:PUBLISH
BEGIN:VEVENT
DTSTART:20250624T180000Z
DTEND:20250624T190000Z
LOCATION:Labyrinth in Uster\, \,
TRANSP:OPAQUE
SEQUENCE:0
UID:19281-veranstaltung@refuster.ch
DTSTAMP:20250619T100531Z
DESCRIPTION:Feuer – Gesang – Tanz\n\nAn Johanni feiern wir die Wärme
  und das Licht des Sommers zur Sonnen- wende (mit Annemarie Geiger\,
  Tanz).\n\nWir beenden den Abend jeweils mit einer Teilete\, Getränke
  sind organisiert. Bei schlechtem Wetter finden wir Unterschlupf.\n
 \nTreffpunkt: Labyrinth im Park bei der Villa am Aabach (Brauereistrasse
  13\, 8610 Uster).\n\nUster hat ein Labyrinth bei der Villa am Aabach\,
  Greifensee eines am Rand des Städtlis. Das Labyrinth Uster besteht seit
  über 26 Jahren\, weil es Menschen gibt\, die es durch die Zeiten tragen.
  Sind Sie interessiert? Dann schauen Sie doch vorbei. \n\nWer über das
  frisch gemähte\, das sommerlich trockene oder verschneite Gras im
  Ustermer Wiesenlabyrinth schreitet\, wird sich an den Abend im Jahreslauf
  lange noch erinnern.\n\nDie Labyrinthe Uster und Greifensee können
  alleine oder angeleitet an einer der Veranstaltungen besucht werden.\n
 \nHerzlich laden wir Sie ein\, im Jahreslauf diesen Gang gemeinsam mit
  anderen unter die Füsse zu nehmen. \n
 \nhttps://www.refuster.ch/labyrinth-uster\n
 \nhttps://www.refuster.ch/dok/4151\n\n\n\nKontakt: Pfrn. Pascale Rondez\n
 \nWeitere Infos: https://www.refuster.ch/veranstaltung/19281
SUMMARY:Johanni-Feier im Labyrinth
PRIORITY:5
X-MICROSOFT-CDO-IMPORTANCE:1
CLASS:PUBLIC
END:VEVENT
END:VCALENDAR
