BEGIN:VCALENDAR
PRODID:-//kirchenweb.ch gmbh//veranstaltungsausgabe v2.0//DE
VERSION:2.0
METHOD:PUBLISH
BEGIN:VEVENT
DTSTART:21960623T120000Z
DTEND:21960623T160000Z
LOCATION:Kirchgemeindehaus Kreuz\, Zentralstrasse 40\, 8610 Uster
TRANSP:OPAQUE
SEQUENCE:0
UID:16231-veranstaltung@refuster.ch
DTSTAMP:20211001T092206Z
DESCRIPTION:Kontakt: Béatrice Spörri\n\nWeitere Infos:
  https://www.refuster.ch/veranstaltung/16231
SUMMARY:Kerzenziehen: farbige Kerzen "draussen"
PRIORITY:5
X-MICROSOFT-CDO-IMPORTANCE:1
CLASS:PUBLIC
END:VEVENT
END:VCALENDAR
